BEGIN:VCALENDAR
VERSION:2.0
PRODID:-//ChamberMaster//Event Calendar 2.0//EN
METHOD:PUBLISH
X-PUBLISHED-TTL:P3D
REFRESH-INTERVAL:P3D
CALSCALE:GREGORIAN
BEGIN:VEVENT
DTSTART:20240727T160000Z
DTEND:20240727T200000Z
X-MICROSOFT-CDO-ALLDAYEVENT:FALSE
SUMMARY:YMCA-OCTSF Back To School Business Bazaar
DESCRIPTION:Vendor set up 8:30 am\n\nVendor fee $25 per 8ft space bring your own tables and chairs\n\nMaximum 27-35 vendors\n\n \n\n$5 donation\n\nOr 5 toiletries\n\nOr 5 school supplies\n\nOr a new backpack\n\nTo get in the door benefitting the children served by the Bethany ymca back to school bash and OCTSF
X-ALT-DESC;FMTTYPE=text/html:<div>Vendor set up 8:30 am<br />\nVendor fee $25 per 8ft space bring your own tables and chairs<br />\nMaximum 27-35 vendors</div>\n\n<div>&nbsp\;</div>\n\n<div>$5 donation<br />\nOr 5 toiletries<br />\nOr 5 school supplies<br />\nOr a new backpack<br />\nTo get in the door benefitting the children served by the Bethany ymca back to school bash and OCTSF</div>\n
LOCATION:Bethany YMCA 3400 N Mueller Avenue Bethany Oklahoma 73008
UID:e.1365.12976
SEQUENCE:3
DTSTAMP:20260420T170415Z
URL:https://business.nwokc.com/events/details/ymca-octsf-back-to-school-business-bazaar-12976
END:VEVENT

END:VCALENDAR
