BEGIN:VCALENDAR
VERSION:2.0
PRODID:-//ChamberMaster//Event Calendar 2.0//EN
METHOD:PUBLISH
X-PUBLISHED-TTL:P3D
REFRESH-INTERVAL:P3D
CALSCALE:GREGORIAN
BEGIN:VEVENT
DTSTART:20241108T203000Z
DTEND:20241108T213000Z
X-MICROSOFT-CDO-ALLDAYEVENT:FALSE
SUMMARY:SNU VETS Center Open House
DESCRIPTION:Make plans to attend the Open House at the SNU VETS Center and connect with the dedicated staff while learning about various resources for veterans.\nWhether you are seeking support\, educational opportunities\, or community connections\, the staff is ready to offer guidance.
X-ALT-DESC;FMTTYPE=text/html:Make plans to attend the Open House at the SNU VETS Center and connect with the dedicated staff while learning about various resources for veterans.\n<div>Whether you are seeking support\, educational opportunities\, or community connections\, the staff is ready to offer guidance.</div>\n
LOCATION:4202 Peniel Ave Bethany\, OK 73008
UID:e.1365.13059
SEQUENCE:3
DTSTAMP:20260420T120558Z
URL:https://business.nwokc.com/events/details/snu-vets-center-open-house-13059
END:VEVENT

END:VCALENDAR
