BEGIN:VCALENDAR
VERSION:2.0
PRODID:-//ChamberMaster//Event Calendar 2.0//EN
METHOD:PUBLISH
X-PUBLISHED-TTL:P3D
REFRESH-INTERVAL:P3D
CALSCALE:GREGORIAN
BEGIN:VEVENT
DTSTART:20240802T162000Z
DTEND:20240802T170000Z
X-MICROSOFT-CDO-ALLDAYEVENT:FALSE
SUMMARY:Ribbon Cutting Celebration with Emma Elle's Italian Kitchen
DESCRIPTION:Let's welcome new member Emma Elle's Italian Kitchen with a special Ribbon Cutting celebrating their Second birthday! \n\nCome for the celebration - then everyone is encouraged to stay\, order off the lunch menu\, and pay for your own lunch. The lunch special is a salad\, entree & beverage for $15.99.
X-ALT-DESC;FMTTYPE=text/html:Let&#39\;s welcome new member Emma Elle&#39\;s Italian Kitchen with a special Ribbon Cutting celebrating their Second birthday!&nbsp\;<br />\nCome for the celebration - then everyone is encouraged to stay\, order off the lunch menu\, and pay for your own lunch. The lunch special is a salad\, entree &amp\; beverage for $15.99.&nbsp\;&nbsp\;<br />\n&nbsp\;
LOCATION:Located at 4401 Grant Blvd Yukon\, OK 73099 (Rt. 66 & Kilpatrick Turnpike)
UID:e.1365.13006
SEQUENCE:3
DTSTAMP:20260420T152049Z
URL:https://business.nwokc.com/events/details/ribbon-cutting-celebration-with-emma-elle-s-italian-kitchen-13006
END:VEVENT

END:VCALENDAR
