BEGIN:VCALENDAR
VERSION:2.0
PRODID:-//ChamberMaster//Event Calendar 2.0//EN
METHOD:PUBLISH
X-PUBLISHED-TTL:P3D
REFRESH-INTERVAL:P3D
CALSCALE:GREGORIAN
BEGIN:VEVENT
DTSTART:20240502T144000Z
DTEND:20240502T150000Z
X-MICROSOFT-CDO-ALLDAYEVENT:FALSE
SUMMARY:Ribbon Cutting Celebration for Metro Family Therapy
DESCRIPTION:Join us in celebrating a Ribbon Cutting with Metro Family Therapy in Bethany. \n\nMetro Family Therapy provides integrative therapy services by taking a holistic and multicultural/multilingual approach to client's mental and physical well-being.
X-ALT-DESC;FMTTYPE=text/html:Join us in celebrating a Ribbon Cutting with Metro Family Therapy in Bethany.&nbsp\;<br />\nMetro Family Therapy provides integrative therapy services by taking a holistic and multicultural/multilingual approach to client&#39\;s mental and physical well-being.&nbsp\;&nbsp\;<br />\n&nbsp\;
LOCATION:7530 NW 23rd St.\, Bethany\, OK 73008 Located in the Gilbert Medical Center between Glade Ave. and Council Road.
UID:e.1365.12971
SEQUENCE:3
DTSTAMP:20260420T203742Z
URL:https://business.nwokc.com/events/details/ribbon-cutting-celebration-for-metro-family-therapy-12971
END:VEVENT

END:VCALENDAR
