BEGIN:VCALENDAR
VERSION:2.0
PRODID:-//ChamberMaster//Event Calendar 2.0//EN
METHOD:PUBLISH
X-PUBLISHED-TTL:P3D
REFRESH-INTERVAL:P3D
CALSCALE:GREGORIAN
BEGIN:VEVENT
DTSTART:20240509T130000Z
DTEND:20240509T140000Z
X-MICROSOFT-CDO-ALLDAYEVENT:FALSE
SUMMARY:NWOKC Community Coffee
DESCRIPTION:Make new connections and grow your relationships while you learn new things about our community.  This week we'll learn more about Our Blood Institute (OBI) and their vital efforts to save lives daily.
X-ALT-DESC;FMTTYPE=text/html:Make new connections and grow your relationships while you learn new things about our community.&nbsp\; This week we&#39\;ll learn more about <a href="https://ourbloodinstitute.org/about/">Our Blood Institute (OBI)</a> and their vital efforts to save lives daily.&nbsp\;&nbsp\;
LOCATION:"Patience Latting" Northwest OKC Library MLS 5600 NW 122nd St. OKC 73142 (East of MacArthur)
UID:e.1365.12966
SEQUENCE:3
DTSTAMP:20260420T221159Z
URL:https://business.nwokc.com/events/details/nwokc-community-coffee-12966
END:VEVENT

END:VCALENDAR
