BEGIN:VCALENDAR
VERSION:2.0
PRODID:-//ChamberMaster//Event Calendar 2.0//EN
METHOD:PUBLISH
X-PUBLISHED-TTL:P3D
REFRESH-INTERVAL:P3D
CALSCALE:GREGORIAN
BEGIN:VEVENT
DTSTART:20241101T133000Z
DTEND:20241101T213000Z
X-MICROSOFT-CDO-ALLDAYEVENT:FALSE
SUMMARY:Leadership Northwest - CLASS THREE
DESCRIPTION:
X-ALT-DESC;FMTTYPE=text/html:
LOCATION:
UID:e.1365.13015
SEQUENCE:3
DTSTAMP:20260420T102052Z
URL:https://business.nwokc.com/events/details/leadership-northwest-class-three-13015
END:VEVENT

END:VCALENDAR
