BEGIN:VCALENDAR
VERSION:2.0
PRODID:-//ChamberMaster//Event Calendar 2.0//EN
METHOD:PUBLISH
X-PUBLISHED-TTL:P3D
REFRESH-INTERVAL:P3D
CALSCALE:GREGORIAN
BEGIN:VEVENT
DTSTART:20240928T230000Z
DTEND:20240929T020000Z
X-MICROSOFT-CDO-ALLDAYEVENT:FALSE
SUMMARY:Inspire Hope ~ Ignite Change Fundraising Concert/Gala
DESCRIPTION:The Mom and Mitchell Foundation mission is increasing awareness and changing the attitude about mental health which is a critical aspect for improving mental health outcomes. This event will feature world-renowned professional blues harmonica player\, Jason Ricci\, who has a powerful story to tell about his own mental health. Enjoy a night of music\, celebration\, dancing\, Hor d'oeuvres\, silent auction\, raffle\, & memories.
X-ALT-DESC;FMTTYPE=text/html:<span style="color:black"><span style="font-family:aptos"><span style="font-size:18.0pt">The Mom and Mitchell Foundation mission is increasing awareness and changing the attitude about mental health which is a critical aspect for improving mental health outcomes. This event will feature world-renowned professional blues harmonica player\, Jason Ricci\, who has a powerful story to tell about his own mental health. Enjoy a night of music\, celebration\, dancing\, Hor d&rsquo\;oeuvres\, silent auction\, raffle\, &amp\; memories.&nbsp\;</span></span></span>
LOCATION:Will Rogers Theatre 4322 N. Western Ave. Oklahoma City\, OK 73118
UID:e.1365.13026
SEQUENCE:3
DTSTAMP:20260420T134326Z
URL:https://business.nwokc.com/events/details/inspire-hope-ignite-change-fundraising-concert-gala-13026
END:VEVENT

END:VCALENDAR
