BEGIN:VCALENDAR
VERSION:2.0
PRODID:-//ChamberMaster//Event Calendar 2.0//EN
METHOD:PUBLISH
X-PUBLISHED-TTL:P3D
REFRESH-INTERVAL:P3D
CALSCALE:GREGORIAN
BEGIN:VEVENT
DTSTART:20240917T140000Z
DTEND:20240917T150000Z
X-MICROSOFT-CDO-ALLDAYEVENT:FALSE
SUMMARY:Feed The Children Partner Market Ribbon Cutting
DESCRIPTION:As Feed the Children approaches our milestone 50th year in 2029\, we are committed to significantly amplifying our impact on childhood hunger. As part of our Feed Initiative - OKC\, we are pleased to announce the launch of a new program to meet the immediate needs of families in greater Oklahoma City. The Feed the Children Partner Market will enable our community partners to self-select nourishing food\, essentials\, personal care items\, and budget-stretching household products from our distribution center each month. It will drive impact on child hunger by ensuring distribution of the appropriate types and volume of the products most needed by the families served. You're invited to a special ribbon cutting celebration event where you can hear more about this exciting new initiative\, tour our distribution center and see the Partner Market in action.
X-ALT-DESC;FMTTYPE=text/html:As Feed the Children approaches our milestone 50th year in 2029\, we are committed to significantly amplifying our impact on childhood hunger. As part of our Feed Initiative - OKC\, we are pleased to announce the launch of a new program to meet the immediate needs of families in greater Oklahoma City. The Feed the Children Partner Market will enable our community partners to self-select nourishing food\, essentials\, personal care items\, and budget-stretching household products from our distribution center each month. It will drive impact on child hunger by ensuring distribution of the appropriate types and volume of the products most needed by the families served. You&#39\;re invited to a special ribbon cutting celebration event where you can hear more about this exciting new initiative\, tour our distribution center and see the Partner Market in action.&nbsp\;
LOCATION:Feed the Children Distribution Center 29 N McCormick Ave Oklahoma City\, OK 73127
UID:e.1365.13027
SEQUENCE:3
DTSTAMP:20260420T134611Z
URL:https://business.nwokc.com/events/details/feed-the-children-partner-market-ribbon-cutting-13027
END:VEVENT

END:VCALENDAR
