BEGIN:VCALENDAR
VERSION:2.0
PRODID:-//ChamberMaster//Event Calendar 2.0//EN
METHOD:PUBLISH
X-PUBLISHED-TTL:P3D
REFRESH-INTERVAL:P3D
CALSCALE:GREGORIAN
BEGIN:VEVENT
DTSTART:20241120T173000Z
DTEND:20241120T190000Z
X-MICROSOFT-CDO-ALLDAYEVENT:FALSE
SUMMARY:Cultivate & Connect: Cultivate Community and Hope
DESCRIPTION:Join us for an inspiring session on "Cultivating Community and Hope\," featuring a video presentation by Liz Bohannon\, a successful entrepreneur and founder of Sseko Designs. Liz was named a Top 20 Speaker in the U.S. by Forbes. In her talk at the 2023 Global Leadership Summit (GLS)\, Liz shares that "it's lonely at the top\, but it doesn't have to be." In this unique session format\, we'll watch a video of Liz's GLS talk together\, then engage in a rich and facilitated discussion to help us implement the insights she shares.
X-ALT-DESC;FMTTYPE=text/html:Join us for an inspiring session on &quot\;Cultivating Community and Hope\,&quot\; featuring a video presentation by Liz Bohannon\, a successful entrepreneur and founder of Sseko Designs. Liz was named a Top 20 Speaker in the U.S. by Forbes. In her talk at the 2023 Global Leadership Summit (GLS)\, Liz shares that &quot\;it&#39\;s lonely at the top\, but it doesn&#39\;t have to be.&quot\; In this unique session format\, we&#39\;ll watch a video of Liz&#39\;s GLS talk together\, then engage in a rich and facilitated discussion to help us implement the insights she shares.
LOCATION:Francis Tuttle Rockwell Campus 12777 N Rockwell Ave Oklahoma City\, OK 73142
UID:e.1365.13037
SEQUENCE:3
DTSTAMP:20260420T102626Z
URL:https://business.nwokc.com/events/details/cultivate-connect-cultivate-community-and-hope-13037
END:VEVENT

END:VCALENDAR
