BEGIN:VCALENDAR
VERSION:2.0
PRODID:-//ChamberMaster//Event Calendar 2.0//EN
METHOD:PUBLISH
X-PUBLISHED-TTL:P3D
REFRESH-INTERVAL:P3D
CALSCALE:GREGORIAN
BEGIN:VEVENT
DTSTART:20240725T130000Z
DTEND:20240725T140000Z
X-MICROSOFT-CDO-ALLDAYEVENT:FALSE
SUMMARY:Community Coffee at Garner Hotel
DESCRIPTION:Invite someone new and join us to make connections\, grow relationships and learn things about our community.   This week we'll be at the Garner Hotel Quail Springs\, a Champion hotel\, bringing a new brand to Oklahoma City.
X-ALT-DESC;FMTTYPE=text/html:<span style="color: rgb(60\, 64\, 67)\; font-family: Roboto\, Arial\, sans-serif\; font-size: 14px\; letter-spacing: 0.2px\; white-space-collapse: preserve\; background-color: rgb(255\, 255\, 255)\;">Invite someone new and join us to make connections\, grow relationships and learn things about our community.&nbsp\;&nbsp\; This week we&#39\;ll be at the Garner Hotel Quail Springs\, a Champion hotel\, bringing a new brand to Oklahoma City.&nbsp\;</span>
LOCATION:Garner Hotel - Quail Springs 13501 Highland Park Blvd. Oklahoma City\, 73120
UID:e.1365.12997
SEQUENCE:3
DTSTAMP:20260420T170159Z
URL:https://business.nwokc.com/events/details/community-coffee-at-garner-hotel-12997
END:VEVENT

END:VCALENDAR
