BEGIN:VCALENDAR
VERSION:2.0
PRODID:-//ChamberMaster//Event Calendar 2.0//EN
METHOD:PUBLISH
X-PUBLISHED-TTL:P3D
REFRESH-INTERVAL:P3D
CALSCALE:GREGORIAN
BEGIN:VEVENT
DTSTART:20240711T130000Z
DTEND:20240711T140000Z
X-MICROSOFT-CDO-ALLDAYEVENT:FALSE
SUMMARY:Community Coffee
DESCRIPTION:Invite someone new and join us to make contacts\, grow relationships and learn more about our community.  This week we will learn more about our sponsor\, Deaconess Pregnancy & Adoption\, and their efforts to provide resources and support for families\, children\, and mothers.
X-ALT-DESC;FMTTYPE=text/html:<span style="color: rgb(60\, 64\, 67)\; font-family: Roboto\, Arial\, sans-serif\; font-size: 14px\; letter-spacing: 0.2px\; white-space-collapse: preserve\; background-color: rgb(255\, 255\, 255)\;">Invite someone new and join us to make contacts\, grow relationships and learn more about our community.&nbsp\; This week we will learn more about our sponsor\, Deaconess Pregnancy &amp\; Adoption\, and their efforts to provide resources and support for families\, children\, and mothers.</span>
LOCATION:Bethany Library 6700 N. 35th St. Bethany\, OK 73008
UID:e.1365.12995
SEQUENCE:3
DTSTAMP:20260420T183308Z
URL:https://business.nwokc.com/events/details/community-coffee-12995
END:VEVENT

END:VCALENDAR
