BEGIN:VCALENDAR
VERSION:2.0
PRODID:-//ChamberMaster//Event Calendar 2.0//EN
METHOD:PUBLISH
X-PUBLISHED-TTL:P3D
REFRESH-INTERVAL:P3D
CALSCALE:GREGORIAN
BEGIN:VEVENT
DTSTART:20240307T140000Z
DTEND:20240307T150000Z
X-MICROSOFT-CDO-ALLDAYEVENT:FALSE
SUMMARY:Community Coffee
DESCRIPTION:Join us for Community Coffee! Hosted by Bethany Public Library and Sponsored by 1 Tom Plumbing & Restoration 1. With special guest speaker Senator Jack Stewart. Community Coffee is ideal for meeting our newest members as well as connecting with longtime friends. Fun\, Friendly and Free! Invite friends and bring your business cards. Guests are welcome.
X-ALT-DESC;FMTTYPE=text/html:<span style="color: rgb(51\, 51\, 51)\; font-family: sans-serif\, Arial\, Verdana\, &quot\;Trebuchet MS&quot\;\; font-size: 13px\; background-color: rgb(255\, 255\, 255)\;">Join us for <em>Community Coffee</em>! Hosted by <strong><em>Bethany Public Library</em></strong> and Sponsored by <strong><em>1 Tom Plumbing &amp\; Restoration 1</em></strong>. With special guest speaker Senator Jack Stewart. Community Coffee is ideal for meeting our newest members as well as connecting with longtime friends.&nbsp\;Fun\, Friendly and Free! Invite friends and bring your business cards.&nbsp\;</span><span style="color: rgb(51\, 51\, 51)\; font-family: sans-serif\, Arial\, Verdana\, &quot\;Trebuchet MS&quot\;\; font-size: 13px\; background-color: rgb(255\, 255\, 255)\;">Guests are welcome.&nbsp\;&nbsp\;</span>
LOCATION:BETHANY PUBLIC LIBRARY - MLS 6700 NW 35TH STREET BETHANY\, OK 73008
UID:e.1365.12938
SEQUENCE:3
DTSTAMP:20260420T234935Z
URL:https://business.nwokc.com/events/details/community-coffee-12938
END:VEVENT

END:VCALENDAR
