BEGIN:VCALENDAR
VERSION:2.0
PRODID:-//ChamberMaster//Event Calendar 2.0//EN
METHOD:PUBLISH
X-PUBLISHED-TTL:P3D
REFRESH-INTERVAL:P3D
CALSCALE:GREGORIAN
BEGIN:VEVENT
DTSTART:20241031T130000Z
DTEND:20241101T020000Z
X-MICROSOFT-CDO-ALLDAYEVENT:FALSE
SUMMARY:Chamber Celebration/ Community Coffee
DESCRIPTION:Join us in celebrating the Chamber's 85 Birthday!  We'll have Community Coffee at the Chamber Office and it will be a great chance to make connections\, grow relationships and learn more about our community! Come see the Chamber office and join us for a time of celebration!! \n\n\n\n(We know this falls on Halloween-Day - You are welcome to wear your costume)
X-ALT-DESC;FMTTYPE=text/html:Join us in celebrating the Chamber&#39\;s 85 Birthday!&nbsp\; We&#39\;ll have Community Coffee at the Chamber Office and it will be a great chance to make connections\, grow relationships and learn more about our community! Come see the Chamber office and join us for a time of celebration!!&nbsp\;<br />\n<br />\n<em>(We know this falls on Halloween-Day - You are welcome to wear your costume)&nbsp\;</em>
LOCATION:Northwest OKC Chamber Office\, 6644 NW 39th Expressway\, Bethany\, OK 73008
UID:e.1365.13047
SEQUENCE:3
DTSTAMP:20260420T120445Z
URL:https://business.nwokc.com/events/details/chamber-celebration-community-coffee-13047
END:VEVENT

END:VCALENDAR
