BEGIN:VCALENDAR
VERSION:2.0
PRODID:-//ChamberMaster//Event Calendar 2.0//EN
METHOD:PUBLISH
X-PUBLISHED-TTL:P3D
REFRESH-INTERVAL:P3D
CALSCALE:GREGORIAN
BEGIN:VEVENT
DTSTART:20241121T140000Z
DTEND:20241121T150000Z
X-MICROSOFT-CDO-ALLDAYEVENT:FALSE
SUMMARY:Bethany Community Coffee
DESCRIPTION:Please join us to make new connections and grow relationships while learning more about our community.  This week's sponsor is Mercer-Adams Funeral Service.  Did you know Gary Mercer was the 2012 NWOKC Chamber Chairman?  Marla Mercer Cole has also served on the Chamber Board.
X-ALT-DESC;FMTTYPE=text/html:Please join us to make new connections and grow relationships while learning more about our community.&nbsp\; This week&#39\;s sponsor is Mercer-Adams Funeral Service.&nbsp\; Did you know Gary Mercer was the 2012 NWOKC Chamber Chairman?&nbsp\; Marla Mercer Cole has also served on the Chamber Board.&nbsp\;
LOCATION:Bethany Library - Metropolitan Library System 6700 NW 35th St. Bethany\, OK 73008
UID:e.1365.13074
SEQUENCE:3
DTSTAMP:20260420T102124Z
URL:https://business.nwokc.com/events/details/bethany-community-coffee-13074
END:VEVENT

END:VCALENDAR
