BEGIN:VCALENDAR
VERSION:2.0
PRODID:-//ChamberMaster//Event Calendar 2.0//EN
METHOD:PUBLISH
X-PUBLISHED-TTL:P3D
REFRESH-INTERVAL:P3D
CALSCALE:GREGORIAN
BEGIN:VEVENT
DTSTART:20240704T150000Z
DTEND:20240704T170000Z
X-MICROSOFT-CDO-ALLDAYEVENT:FALSE
SUMMARY:Bethany Boom - Parade & Fireworks
DESCRIPTION:Bethany Boom - Bethany's Annual Independence Day Celebration \n\nis presented by the City of Bethany and features a parade and fireworks. \n\n\n\nBusinesses and Organizations wishing to participate in the Parade need to Register by June 7\, 2024.  CLICK FOR MORE INFO & REGISTRATION
X-ALT-DESC;FMTTYPE=text/html:Bethany Boom - Bethany&#39\;s Annual Independence Day Celebration&nbsp\;<br />\nis presented by the City of Bethany and features a parade and fireworks.&nbsp\;<br />\n<br />\nBusinesses and Organizations wishing to participate in the Parade need to Register by June 7\, 2024.&nbsp\; <a href="https://cms8.revize.com/revize/bethanyok/Bethany%20Boom%20Parade%20Application-fillable%20(1).pdf">CLICK FOR MORE INFO &amp\; REGISTRATION</a>
LOCATION:Parade Route (for viewing) Westbound on NW 39th Expressway (Route 66) from Peniel to Rockwell Southbound on Rockwell from NW 39th Expressway to NW 36th St. Westbound on NW 36th Street to the Entrance of Eldon Lyon Park. Please note traffic on these streets will be closed that morning\, so plan your route and get their early for your viewing location.
UID:e.1365.12992
SEQUENCE:3
DTSTAMP:20260420T183902Z
URL:https://business.nwokc.com/events/details/bethany-boom-parade-fireworks-12992
END:VEVENT

END:VCALENDAR
