BEGIN:VCALENDAR
VERSION:2.0
PRODID:-//ChamberMaster//Event Calendar 2.0//EN
METHOD:PUBLISH
X-PUBLISHED-TTL:P3D
REFRESH-INTERVAL:P3D
CALSCALE:GREGORIAN
BEGIN:VEVENT
DTSTART:20240829T210000Z
DTEND:20240829T220000Z
X-MICROSOFT-CDO-ALLDAYEVENT:FALSE
SUMMARY:2024 Aug Membership 101 & Welcome Reception
DESCRIPTION:We are happy to welcome our new members and learn more about their businesses. Attending this orientation will give new members a chance to meet some of our leaders\, ask questions and learn more about the ways the Chamber can help them reach their goals. The Orientation will be held at Slate venue atop NWOKC's iconic Founders Tower\, with scenic city views from Lake Hefner\, to downtown. The Welcome reception will immediately be followed by our Member Mingle After Hours\, a chance to connect with a wide range of our members and guests.
X-ALT-DESC;FMTTYPE=text/html:We are happy to welcome our new members and learn more about their businesses. Attending this orientation will give new members a chance to meet some of our leaders\, ask questions and learn more about the ways the Chamber can help them reach their goals. The Orientation will be held at Slate venue atop NWOKC&rsquo\;s iconic Founders Tower\, with scenic city views from Lake Hefner\, to downtown. The Welcome reception will immediately be followed by our Member Mingle After Hours\, a chance to connect with a wide range of our members and guests.
LOCATION:Slate at Founder's Tower 5900 Mosteller Road\, Top Floor Oklahoma City\, OK 73112
UID:e.1365.13023
SEQUENCE:3
DTSTAMP:20260420T151800Z
URL:https://business.nwokc.com/events/details/2024-aug-membership-101-welcome-reception-13023
END:VEVENT

END:VCALENDAR
