BEGIN:VCALENDAR
VERSION:2.0
PRODID:-//ChamberMaster//Event Calendar 2.0//EN
METHOD:PUBLISH
X-PUBLISHED-TTL:P3D
REFRESH-INTERVAL:P3D
CALSCALE:GREGORIAN
BEGIN:VEVENT
DTSTART:20240425T141000Z
DTEND:20240425T153000Z
X-MICROSOFT-CDO-ALLDAYEVENT:FALSE
SUMMARY:2024 April Membership Orientation
DESCRIPTION:Find out how your business can utilize the resources offered by the Chamber to reach YOUR goals.  You'll have an opportunity to meet Chamber leaders and connect with other new members.  New employees and anyone wanting to learn more about maximizing your membership is encouraged to attend. \n\nPlease register in advance.
X-ALT-DESC;FMTTYPE=text/html:Find out how your business can utilize the resources offered by the Chamber to reach YOUR goals.&nbsp\; You&#39\;ll have an opportunity to meet Chamber leaders and connect with other new members.&nbsp\; New employees and anyone wanting to learn more about maximizing your membership is encouraged to attend.&nbsp\;<br />\nPlease register in advance.&nbsp\;<br />\n&nbsp\;
LOCATION:Francis Tuttle Technology Center\, 12777 N Rockwell Avenue\, Oklahoma City Administration Building - Board Room
UID:e.1365.12965
SEQUENCE:3
DTSTAMP:20260420T221305Z
URL:https://business.nwokc.com/events/details/2024-april-membership-orientation-12965
END:VEVENT

END:VCALENDAR
